BEGIN:VCALENDAR
VERSION:2.0
PRODID:-//APEL PASSY BUZENVAL - ECPv5.16.1.1//NONSGML v1.0//EN
CALSCALE:GREGORIAN
METHOD:PUBLISH
X-WR-CALNAME:APEL PASSY BUZENVAL
X-ORIGINAL-URL:https://apelpassy.fr
X-WR-CALDESC:évènements pour APEL PASSY BUZENVAL
REFRESH-INTERVAL;VALUE=DURATION:PT1H
X-Robots-Tag:noindex
X-PUBLISHED-TTL:PT1H
BEGIN:VTIMEZONE
TZID:Europe/Paris
BEGIN:DAYLIGHT
TZOFFSETFROM:+0100
TZOFFSETTO:+0200
TZNAME:CEST
DTSTART:20230326T010000
END:DAYLIGHT
BEGIN:STANDARD
TZOFFSETFROM:+0200
TZOFFSETTO:+0100
TZNAME:CET
DTSTART:20231029T010000
END:STANDARD
END:VTIMEZONE
BEGIN:VEVENT
DTSTART;TZID=Europe/Paris:20230131T200000
DTEND;TZID=Europe/Paris:20230131T223000
DTSTAMP:20260422T215209
CREATED:20230113T155344Z
LAST-MODIFIED:20230113T155344Z
UID:16416-1675195200-1675204200@apelpassy.fr
SUMMARY:Conférence Apel - "Échanger avec nos jeunes de façon bienveillante grâce à la Communication Non Violente"
DESCRIPTION:S’inscrire \n  \nVous est-il déjà arrivé d’avoir une intention bienveillante en vous adressant à quelqu’un et de constater\nun décalage entre votre intention et la réaction ? \nSouhaiteriez-vous avoir de la clarté sur ce qui se joue dans ce type de situation ?\nSeriez-vous intéressé par des pistes d’action pour mettre davantage en cohérence\nvotre intention et votre communication en famille ?  \nL’Apel vous invite à venir écouter Nathalie Tirard qui nous parlera\ndes habitudes de langage qui nous éloignent de nos intentions bienveillantes\,\net nous donnera des pistes alternatives basées sur la Communication NonViolente (CNV) à partir d’exemples concrets vécus par elle et/ou par vous. \nNous serons ravis ensuite d’échanger en toute convivialité autour d’un verre de l’amitié.\nC’est une belle occasion de rencontrer d’autres parents d’élèves de Passy et d’échanger dans une ambiance chaleureuse. \n  \n \n\nDiplômée de l’ESCP et de l’institut de Coaching the Co-Active Training Institute\,\nNathalie Tirard est formatrice certifiée en CNV. \n\n\nElle a à coeur de contribuer à rendre les relations plus fructueuse\net de renforcer les liens de confiance entre les personnes pour l’épanouissement de tous.
URL:https://apelpassy.fr/event/conference-communication-non-violente/
LOCATION:Ciné-Club
CATEGORIES:Conférences et débats
ATTACH;FMTTYPE=image/jpeg:https://apelpassy.fr/wp-content/uploads/2023/01/Nathalie-Tirard.jpeg
ORGANIZER;CN="Apel%20Passy%20Buzenval":MAILTO:secretariat@apelpassy.fr
END:VEVENT
END:VCALENDAR