BEGIN:VCALENDAR
VERSION:2.0
PRODID:-//APEL PASSY BUZENVAL - ECPv5.16.1.1//NONSGML v1.0//EN
CALSCALE:GREGORIAN
METHOD:PUBLISH
X-ORIGINAL-URL:https://apelpassy.fr
X-WR-CALDESC:évènements pour APEL PASSY BUZENVAL
REFRESH-INTERVAL;VALUE=DURATION:PT1H
X-Robots-Tag:noindex
X-PUBLISHED-TTL:PT1H
BEGIN:VTIMEZONE
TZID:Europe/Paris
BEGIN:DAYLIGHT
TZOFFSETFROM:+0100
TZOFFSETTO:+0200
TZNAME:CEST
DTSTART:20230326T010000
END:DAYLIGHT
BEGIN:STANDARD
TZOFFSETFROM:+0200
TZOFFSETTO:+0100
TZNAME:CET
DTSTART:20231029T010000
END:STANDARD
END:VTIMEZONE
BEGIN:VEVENT
DTSTART;TZID=Europe/Paris:20231010T200000
DTEND;TZID=Europe/Paris:20231010T230000
DTSTAMP:20260420T115058
CREATED:20230928T150246Z
LAST-MODIFIED:20231122T113116Z
UID:16646-1696968000-1696978800@apelpassy.fr
SUMMARY:Conférence Passeport Orientation - Comment accompagner l'orientation de nos enfants ?
DESCRIPTION:  \nPar quoi je commence en tant que parent ? Quelles étapes puis-je effectuer ? Où chercher les informations ? \nComment guider mon enfant ? Comment aider mon enfant à mieux se connaître ? \nDécouvrir les intelligences multiples\, … \n  \nChristine Sentagne est conseillère en orientation et membre du réseau tonavenir.net. Elle accompagne au quotidien les jeunes et leurs parents afin que chaque jeune puisse découvrir sereinement sa personnalité\, ses atouts et soit en mesure de construire son avenir. \nLe replay de cette conférence est disponible ICI
URL:https://apelpassy.fr/event/conference-passeport-orientation-accompagner-orientation-enfants/
LOCATION:En visioconférence
CATEGORIES:Conférences et débats
ATTACH;FMTTYPE=image/png:https://apelpassy.fr/wp-content/uploads/2021/11/SO-2021.png
ORGANIZER;CN="Apel%20Passy%20Buzenval":MAILTO:secretariat@apelpassy.fr
END:VEVENT
END:VCALENDAR