BEGIN:VCALENDAR
VERSION:2.0
PRODID:-//APEL PASSY BUZENVAL - ECPv5.16.1.1//NONSGML v1.0//EN
CALSCALE:GREGORIAN
METHOD:PUBLISH
X-WR-CALNAME:APEL PASSY BUZENVAL
X-ORIGINAL-URL:https://apelpassy.fr
X-WR-CALDESC:évènements pour APEL PASSY BUZENVAL
REFRESH-INTERVAL;VALUE=DURATION:PT1H
X-Robots-Tag:noindex
X-PUBLISHED-TTL:PT1H
BEGIN:VTIMEZONE
TZID:Europe/Paris
BEGIN:DAYLIGHT
TZOFFSETFROM:+0100
TZOFFSETTO:+0200
TZNAME:CEST
DTSTART:20230326T010000
END:DAYLIGHT
BEGIN:STANDARD
TZOFFSETFROM:+0200
TZOFFSETTO:+0100
TZNAME:CET
DTSTART:20231029T010000
END:STANDARD
END:VTIMEZONE
BEGIN:VEVENT
DTSTART;TZID=Europe/Paris:20231116T193000
DTEND;TZID=Europe/Paris:20231116T200000
DTSTAMP:20260420T102309
CREATED:20231102T130427Z
LAST-MODIFIED:20231102T130427Z
UID:16725-1700163000-1700164800@apelpassy.fr
SUMMARY:Assemblée Générale Extraordinaire de l'Apel
DESCRIPTION:L’ordre du jour de cette Assemblée Générale Extraordinaire est le suivant : mise à jour des statuts de l’association. \nCette mise à jour\, demandée par l’Apel Nationale\, permet avant tout une harmonisation des statuts de chaque Apel d’établissement et d’y intégrer deux nouveaux points : \n\nL’autorisation de la tenue en distanciel des réunions et le vote en ligne\n\nLa considération comme membres des parents d’élèves sous statut d’apprenti\n\n\nVous pouvez consulter ces nouveaux statuts ici.\nSi vous ne pouvez pas être présent\, vous pouvez nous adresser votre pouvoir dûment rempli et signé avant le samedi 11 novembre. \nCette Assemblée Générale Extraordinaire a lieu en visioconférence. Le lien de connexion a été communiqué à toute les familles via École Directe ou par mail.
URL:https://apelpassy.fr/event/assemblee-generales-extraordinaire-apel/
LOCATION:En visioconférence
CATEGORIES:Invitation Apel pour tous les parents
END:VEVENT
END:VCALENDAR