BEGIN:VCALENDAR
VERSION:2.0
PRODID:-//APEL PASSY BUZENVAL - ECPv5.16.1.1//NONSGML v1.0//EN
CALSCALE:GREGORIAN
METHOD:PUBLISH
X-ORIGINAL-URL:https://apelpassy.fr
X-WR-CALDESC:évènements pour APEL PASSY BUZENVAL
REFRESH-INTERVAL;VALUE=DURATION:PT1H
X-Robots-Tag:noindex
X-PUBLISHED-TTL:PT1H
BEGIN:VTIMEZONE
TZID:Europe/Paris
BEGIN:DAYLIGHT
TZOFFSETFROM:+0100
TZOFFSETTO:+0200
TZNAME:CEST
DTSTART:20240331T010000
END:DAYLIGHT
BEGIN:STANDARD
TZOFFSETFROM:+0200
TZOFFSETTO:+0100
TZNAME:CET
DTSTART:20241027T010000
END:STANDARD
END:VTIMEZONE
BEGIN:VEVENT
DTSTART;TZID=Europe/Paris:20240116T193000
DTEND;TZID=Europe/Paris:20240116T203000
DTSTAMP:20260420T071728
CREATED:20240115T133707Z
LAST-MODIFIED:20240115T134058Z
UID:16834-1705433400-1705437000@apelpassy.fr
SUMMARY:Premières et Terminales - Présentation du Campus de Passy
DESCRIPTION:Cette réunion s’adresse aux jeunes de Première et de Terminale et à leurs parents. Les personnes concernées recevront le lien de connexion et toutes les informations nécessaires via École Directe.
URL:https://apelpassy.fr/event/premieres-terminales-presentation-campus-passy/
LOCATION:En visioconférence
CATEGORIES:Dates importantes établissement
END:VEVENT
END:VCALENDAR