BEGIN:VCALENDAR
VERSION:2.0
PRODID:-//APEL PASSY BUZENVAL - ECPv5.16.1.1//NONSGML v1.0//EN
CALSCALE:GREGORIAN
METHOD:PUBLISH
X-WR-CALNAME:APEL PASSY BUZENVAL
X-ORIGINAL-URL:https://apelpassy.fr
X-WR-CALDESC:évènements pour APEL PASSY BUZENVAL
REFRESH-INTERVAL;VALUE=DURATION:PT1H
X-Robots-Tag:noindex
X-PUBLISHED-TTL:PT1H
BEGIN:VTIMEZONE
TZID:Europe/Paris
BEGIN:DAYLIGHT
TZOFFSETFROM:+0100
TZOFFSETTO:+0200
TZNAME:CEST
DTSTART:20240331T010000
END:DAYLIGHT
BEGIN:STANDARD
TZOFFSETFROM:+0200
TZOFFSETTO:+0100
TZNAME:CET
DTSTART:20241027T010000
END:STANDARD
END:VTIMEZONE
BEGIN:VEVENT
DTSTART;TZID=Europe/Paris:20240125T183000
DTEND;TZID=Europe/Paris:20240125T200000
DTSTAMP:20260420T071606
CREATED:20200924T092529Z
LAST-MODIFIED:20240115T134925Z
UID:13543-1706207400-1706212800@apelpassy.fr
SUMMARY:Secondes - Présentation des spécialités
DESCRIPTION:Cette réunion s’adresse aux jeunes de Seconde et à leurs parents. Les personnes concernées recevront le lien de connexion et toutes les informations nécessaires via École Directe.
URL:https://apelpassy.fr/event/seconde-presentation-specialites/
LOCATION:En visioconférence
CATEGORIES:Dates importantes établissement
END:VEVENT
BEGIN:VEVENT
DTSTART;TZID=Europe/Paris:20240125T200000
DTEND;TZID=Europe/Paris:20240125T220000
DTSTAMP:20260420T071606
CREATED:20231220T130919Z
LAST-MODIFIED:20231220T131749Z
UID:16796-1706212800-1706220000@apelpassy.fr
SUMMARY:Conférence Passeport Orientation - Pas à pas sur la plateforme Parcoursup
DESCRIPTION:  \nToutes les étapes à suivre de l’inscription à la formulation des vœux sur Parcoursup\nUne lecture précise de chacune des étapes. \n  \nViolaine Bigot a eu la charge du suivi des réformes des lycées pendant plus de 5 ans à l’Apel Nationale.\nElle a accompagné et informé les parents au fur et à mesure des évolutions de la réforme du lycée et est animée par toutes les questions liées à l’orientation. \n  \nS’inscrire\n \nVous recevrez le lien de connexion à la conférence par mail à partir du 22 janvier.\nUn replay sera disponible la semaine suivant l’évènement. 
URL:https://apelpassy.fr/event/pas-a-pas-plateforme-parcoursup/
LOCATION:En visioconférence
CATEGORIES:Conférences et débats
ATTACH;FMTTYPE=image/png:https://apelpassy.fr/wp-content/uploads/2021/11/SO-2021.png
ORGANIZER;CN="Apel%20Passy%20Buzenval":MAILTO:secretariat@apelpassy.fr
END:VEVENT
END:VCALENDAR