BEGIN:VCALENDAR
VERSION:2.0
PRODID:-//APEL PASSY BUZENVAL - ECPv5.16.1.1//NONSGML v1.0//EN
CALSCALE:GREGORIAN
METHOD:PUBLISH
X-ORIGINAL-URL:https://apelpassy.fr
X-WR-CALDESC:évènements pour APEL PASSY BUZENVAL
REFRESH-INTERVAL;VALUE=DURATION:PT1H
X-Robots-Tag:noindex
X-PUBLISHED-TTL:PT1H
BEGIN:VTIMEZONE
TZID:Europe/Paris
BEGIN:DAYLIGHT
TZOFFSETFROM:+0100
TZOFFSETTO:+0200
TZNAME:CEST
DTSTART:20240331T010000
END:DAYLIGHT
BEGIN:STANDARD
TZOFFSETFROM:+0200
TZOFFSETTO:+0100
TZNAME:CET
DTSTART:20241027T010000
END:STANDARD
END:VTIMEZONE
BEGIN:VEVENT
DTSTART;TZID=Europe/Paris:20240312T200000
DTEND;TZID=Europe/Paris:20240312T220000
DTSTAMP:20260420T040752
CREATED:20240208T105524Z
LAST-MODIFIED:20240208T105524Z
UID:16876-1710273600-1710280800@apelpassy.fr
SUMMARY:Conférence Passeport Orientation - Prise de parole et méthodologie d'entretien
DESCRIPTION:  \nAu programme :\n– Développement personnel\n– Le Projet\n– L’épreuve de l’entretien \n  \nLaure de La Cotardière est coach facilitateur de prise de parole et d’estime de soi \n  \nS’inscrire\n \nVous recevrez le lien de connexion à la conférence par mail au plus tard le jour de la conférence.
URL:https://apelpassy.fr/event/prise-de-parole-methodologie-entretien/
LOCATION:En visioconférence
CATEGORIES:Conférences et débats
ATTACH;FMTTYPE=image/png:https://apelpassy.fr/wp-content/uploads/2021/11/SO-2021.png
END:VEVENT
END:VCALENDAR