BEGIN:VCALENDAR
VERSION:2.0
PRODID:-//APEL PASSY BUZENVAL - ECPv5.16.1.1//NONSGML v1.0//EN
CALSCALE:GREGORIAN
METHOD:PUBLISH
X-WR-CALNAME:APEL PASSY BUZENVAL
X-ORIGINAL-URL:https://apelpassy.fr
X-WR-CALDESC:évènements pour APEL PASSY BUZENVAL
REFRESH-INTERVAL;VALUE=DURATION:PT1H
X-Robots-Tag:noindex
X-PUBLISHED-TTL:PT1H
BEGIN:VTIMEZONE
TZID:Europe/Paris
BEGIN:DAYLIGHT
TZOFFSETFROM:+0100
TZOFFSETTO:+0200
TZNAME:CEST
DTSTART:20240331T010000
END:DAYLIGHT
BEGIN:STANDARD
TZOFFSETFROM:+0200
TZOFFSETTO:+0100
TZNAME:CET
DTSTART:20241027T010000
END:STANDARD
END:VTIMEZONE
BEGIN:VEVENT
DTSTART;TZID=Europe/Paris:20240405T080000
DTEND;TZID=Europe/Paris:20240405T100000
DTSTAMP:20260420T022834
CREATED:20220914T161927Z
LAST-MODIFIED:20230915T143336Z
UID:16221-1712304000-1712311200@apelpassy.fr
SUMMARY:Messe en l'honneur de la fête de Saint-Jean-Baptiste de La Salle
DESCRIPTION:
URL:https://apelpassy.fr/event/messe-fete-sjbdls/
LOCATION:Grande Chapelle
CATEGORIES:Célébrations et rendez-vous de la pastorale
END:VEVENT
END:VCALENDAR