BEGIN:VCALENDAR
VERSION:2.0
PRODID:-//APEL PASSY BUZENVAL - ECPv5.16.1.1//NONSGML v1.0//EN
CALSCALE:GREGORIAN
METHOD:PUBLISH
X-ORIGINAL-URL:https://apelpassy.fr
X-WR-CALDESC:évènements pour APEL PASSY BUZENVAL
REFRESH-INTERVAL;VALUE=DURATION:PT1H
X-Robots-Tag:noindex
X-PUBLISHED-TTL:PT1H
BEGIN:VTIMEZONE
TZID:Europe/Paris
BEGIN:DAYLIGHT
TZOFFSETFROM:+0100
TZOFFSETTO:+0200
TZNAME:CEST
DTSTART:20240331T010000
END:DAYLIGHT
BEGIN:STANDARD
TZOFFSETFROM:+0200
TZOFFSETTO:+0100
TZNAME:CET
DTSTART:20241027T010000
END:STANDARD
END:VTIMEZONE
BEGIN:VEVENT
DTSTART;TZID=Europe/Paris:20240523T191500
DTEND;TZID=Europe/Paris:20240523T220000
DTSTAMP:20260420T010739
CREATED:20240422T145158Z
LAST-MODIFIED:20240503T063835Z
UID:16928-1716491700-1716501600@apelpassy.fr
SUMMARY:Conférence - Comprendre et soulager le stress des adolescents et de leurs parents
DESCRIPTION:Face aux montagnes russes de la vie scolaire et des attentes sociales\, le stress devient un invité fréquent dans nos familles. Mais\, que se passerait-il si vous pouviez non seulement comprendre mais aussi maîtriser ce stress ? \nL’Apel de Passy Buzenval vous invite à une conférence pour comprendre comment fonctionne le stress\net pourquoi nous stressons\, chacun d’entre nous\, à notre manière. \nCe que vous découvrirez : \n– Les secrets de votre cerveau : le combat entre le mode automatique et le mode adaptatif\n– Les origines du stress chez les parents et les adolescents et comment les affronter ensemble\n– Des outils concrets pour apaiser la pression scolaire et les tensions familiales \nUne opportunité de nourrir notre réflexion en tant que parents soucieux d’accompagner nos enfants à grandir en confiance et à s’épanouir. \n \nS’inscrire\n  \nCette conférence sera animée par Carine Even Salmon-Legagneur\, coach professionnelle certifiée\, formée aux neurosciences.\nDepuis près de quinze ans dans le cadre de son cabinet de coaching (Adaptis coaching)\, elle aide les leaders d’aujourd’hui et de demain à développer leur motivation et à rester sereins face au stress. Elle accompagne également les jeunes adolescents et leurs parents pour retrouver motivation et énergie dans le cadre de leur parcours d’orientation\, notamment à travers son offre d’accompagnement “Bilan jeune et motivation”. www.adaptiscoaching.com
URL:https://apelpassy.fr/event/comprendre-soulager-stress-adolescent/
LOCATION:Ciné-Club
CATEGORIES:Conférences et débats
ATTACH;FMTTYPE=image/jpeg:https://apelpassy.fr/wp-content/uploads/2024/04/Visuel-23-mai-V2.jpg
END:VEVENT
END:VCALENDAR