BEGIN:VCALENDAR
VERSION:2.0
PRODID:-//APEL PASSY BUZENVAL - ECPv5.16.1.1//NONSGML v1.0//EN
CALSCALE:GREGORIAN
METHOD:PUBLISH
X-WR-CALNAME:APEL PASSY BUZENVAL
X-ORIGINAL-URL:https://apelpassy.fr
X-WR-CALDESC:évènements pour APEL PASSY BUZENVAL
REFRESH-INTERVAL;VALUE=DURATION:PT1H
X-Robots-Tag:noindex
X-PUBLISHED-TTL:PT1H
BEGIN:VTIMEZONE
TZID:Europe/Paris
BEGIN:DAYLIGHT
TZOFFSETFROM:+0100
TZOFFSETTO:+0200
TZNAME:CEST
DTSTART:20240331T010000
END:DAYLIGHT
BEGIN:STANDARD
TZOFFSETFROM:+0200
TZOFFSETTO:+0100
TZNAME:CET
DTSTART:20241027T010000
END:STANDARD
END:VTIMEZONE
BEGIN:VEVENT
DTSTART;TZID=Europe/Paris:20241218T180000
DTEND;TZID=Europe/Paris:20241218T200000
DTSTAMP:20260421T114036
CREATED:20241218T143744Z
LAST-MODIFIED:20241218T143744Z
UID:17184-1734544800-1734552000@apelpassy.fr
SUMMARY:Troisième - Réunion de présentation du lycée
DESCRIPTION:
URL:https://apelpassy.fr/event/reunion-presentation-lycee/
LOCATION:Ciné-Club
CATEGORIES:Dates importantes établissement
END:VEVENT
BEGIN:VEVENT
DTSTART;TZID=Europe/Paris:20241218T200000
DTEND;TZID=Europe/Paris:20241218T220000
DTSTAMP:20260421T114036
CREATED:20241204T155831Z
LAST-MODIFIED:20241218T151648Z
UID:17146-1734552000-1734559200@apelpassy.fr
SUMMARY:Conférence - Addictions\, drogue\, alcool : comment sensibiliser et protéger nos enfants ?
DESCRIPTION:  \nLa puissance des lobbys du tabac et de l’alcool\, ainsi que l’omniprésence du cannabis\, même sous forme de CBD\,\nimposent aux parents d’être proactifs auprès de leurs jeunes. \nComment sensibiliser et protéger nos enfants des addictions ? \n  \nNotre intervenant\, le Dr. Nicolas Bonnet\, est Docteur en Pharmacie\, expert depuis plus de 20 ans de la prévention des addictions\,\nen particulier chez les jeunes\, Directeur du RESPADD (Réseau des Etablissements de Santé pour la Prévention des ADDictions)\net responsable de la consultation jeunes consommateurs de la Pitié Salpétrière. \n\n  \nPour vous connecter c’est ICI
URL:https://apelpassy.fr/event/addictions/
LOCATION:En visioconférence
CATEGORIES:Conférences et débats
END:VEVENT
END:VCALENDAR