BEGIN:VCALENDAR
VERSION:2.0
PRODID:-//APEL PASSY BUZENVAL - ECPv5.16.1.1//NONSGML v1.0//EN
CALSCALE:GREGORIAN
METHOD:PUBLISH
X-ORIGINAL-URL:https://apelpassy.fr
X-WR-CALDESC:évènements pour APEL PASSY BUZENVAL
REFRESH-INTERVAL;VALUE=DURATION:PT1H
X-Robots-Tag:noindex
X-PUBLISHED-TTL:PT1H
BEGIN:VTIMEZONE
TZID:Europe/Paris
BEGIN:DAYLIGHT
TZOFFSETFROM:+0100
TZOFFSETTO:+0200
TZNAME:CEST
DTSTART:20250330T010000
END:DAYLIGHT
BEGIN:STANDARD
TZOFFSETFROM:+0200
TZOFFSETTO:+0100
TZNAME:CET
DTSTART:20251026T010000
END:STANDARD
END:VTIMEZONE
BEGIN:VEVENT
DTSTART;TZID=Europe/Paris:20250118T100000
DTEND;TZID=Europe/Paris:20250118T173000
DTSTAMP:20260423T104638
CREATED:20200712T200851Z
LAST-MODIFIED:20241205T172351Z
UID:12506-1737194400-1737221400@apelpassy.fr
SUMMARY:Secondes et Premières - Grandes conférences
DESCRIPTION:Un rendez-vous orientation à ne pas manquer pour les élèves de Seconde et Première !\nLes élèves de Seconde et Première\, ainsi que leurs parents\, sont invités à venir écouter des conférences animées par des responsables de prépas/écoles post-bac/universités ainsi que des professionnels du secteur. \nDe nombreuses filières sont représentées : scientifique\, économique\, juridique\, médicale\, artistique mais aussi l’enseignement\, l’architecture\, la psychologie\, le numérique et les humanités. Le programme est communiqué via École Directe aux personnes concernées. \nIl s’agit d’une vraie opportunité à ne pas manquer afin d’aider les jeunes dans leurs réflexions et leurs connaissances des métiers et des filières de l’enseignement supérieur. \nCes conférences sont organisées par Passy conjointement avec le Centre Madeleine Daniélou et Sainte-Marie de Neuilly.
URL:https://apelpassy.fr/event/conferences-post-bac/
LOCATION:Passy Buzenval\, 50 avenue Otis Mygatt\, Rueil-Malmaison\, 92500
CATEGORIES:Orientation
END:VEVENT
END:VCALENDAR