BEGIN:VCALENDAR
VERSION:2.0
PRODID:-//APEL PASSY BUZENVAL - ECPv5.16.1.1//NONSGML v1.0//EN
CALSCALE:GREGORIAN
METHOD:PUBLISH
X-ORIGINAL-URL:https://apelpassy.fr
X-WR-CALDESC:évènements pour APEL PASSY BUZENVAL
REFRESH-INTERVAL;VALUE=DURATION:PT1H
X-Robots-Tag:noindex
X-PUBLISHED-TTL:PT1H
BEGIN:VTIMEZONE
TZID:Europe/Paris
BEGIN:DAYLIGHT
TZOFFSETFROM:+0100
TZOFFSETTO:+0200
TZNAME:CEST
DTSTART:20230326T010000
END:DAYLIGHT
BEGIN:STANDARD
TZOFFSETFROM:+0200
TZOFFSETTO:+0100
TZNAME:CET
DTSTART:20231029T010000
END:STANDARD
END:VTIMEZONE
BEGIN:VEVENT
DTSTART;VALUE=DATE:20230116
DTEND;VALUE=DATE:20230117
DTSTAMP:20260422T232726
CREATED:20221024T132502Z
LAST-MODIFIED:20221024T132502Z
UID:16339-1673827200-1673913599@apelpassy.fr
SUMMARY:Activité 2 des Maisons
DESCRIPTION:
URL:https://apelpassy.fr/event/activite-2-maisons/
LOCATION:Passy Buzenval\, 50 avenue Otis Mygatt\, Rueil-Malmaison\, 92500
CATEGORIES:Dates importantes établissement
END:VEVENT
BEGIN:VEVENT
DTSTART;TZID=Europe/Paris:20230117T173000
DTEND;TZID=Europe/Paris:20230117T200000
DTSTAMP:20260422T232726
CREATED:20200821T175314Z
LAST-MODIFIED:20221024T132711Z
UID:12996-1673976600-1673985600@apelpassy.fr
SUMMARY:5èmes - Rencontres Parents / Professeurs (I)
DESCRIPTION:Les rencontres parents/professeurs ont lieu le mardi 17 ou le jeudi 19 janvier en fonction de la classe. Ces réunions ont lieu en visioconférence via Teams. Les informations de connexion vous seront communiquées quelques jours avant.
URL:https://apelpassy.fr/event/rencontres-parents-profs-5emes-a/
LOCATION:En visioconférence
CATEGORIES:Dates importantes établissement
END:VEVENT
BEGIN:VEVENT
DTSTART;TZID=Europe/Paris:20230119T173000
DTEND;TZID=Europe/Paris:20230119T200000
DTSTAMP:20260422T232726
CREATED:20200821T180659Z
LAST-MODIFIED:20221024T132756Z
UID:13000-1674149400-1674158400@apelpassy.fr
SUMMARY:5èmes - Rencontres Parents / Professeurs (II)
DESCRIPTION:Les rencontres parents/professeurs ont lieu le mardi 17 ou le jeudi 19 janvier en fonction de la classe. Ces réunions ont lieu en visioconférence via Teams. Les informations de connexion vous seront communiquées quelques jours avant.
URL:https://apelpassy.fr/event/rencontres-parents-profs-5emes-b/
LOCATION:En visioconférence
CATEGORIES:Dates importantes établissement
END:VEVENT
BEGIN:VEVENT
DTSTART;TZID=Europe/Paris:20230123T173000
DTEND;TZID=Europe/Paris:20230123T210000
DTSTAMP:20260422T232726
CREATED:20200821T155832Z
LAST-MODIFIED:20221024T131224Z
UID:12972-1674495000-1674507600@apelpassy.fr
SUMMARY:3èmes - Rencontres d'orientation parents / professeurs (I)
DESCRIPTION:Les rencontres ont lieu le 23 ou le 24 janvier 2023 en fonction de la classe.
URL:https://apelpassy.fr/event/rencontres-orientation-3emes-1/
LOCATION:Dans les classes
CATEGORIES:Dates importantes établissement
END:VEVENT
BEGIN:VEVENT
DTSTART;TZID=Europe/Paris:20230124T173000
DTEND;TZID=Europe/Paris:20230124T210000
DTSTAMP:20260422T232726
CREATED:20200821T173835Z
LAST-MODIFIED:20221024T131143Z
UID:12977-1674581400-1674594000@apelpassy.fr
SUMMARY:3èmes - Rencontres d'orientation parents / professeurs (II)
DESCRIPTION:Les rencontres ont lieu le 23 ou le 24 janvier 2023 en fonction de la classe.
URL:https://apelpassy.fr/event/rencontres-orientation-3emes-2/
LOCATION:Dans les classes
CATEGORIES:Dates importantes établissement
END:VEVENT
BEGIN:VEVENT
DTSTART;TZID=Europe/Paris:20230131T200000
DTEND;TZID=Europe/Paris:20230131T223000
DTSTAMP:20260422T232726
CREATED:20230113T155344Z
LAST-MODIFIED:20230113T155344Z
UID:16416-1675195200-1675204200@apelpassy.fr
SUMMARY:Conférence Apel - "Échanger avec nos jeunes de façon bienveillante grâce à la Communication Non Violente"
DESCRIPTION:S’inscrire \n  \nVous est-il déjà arrivé d’avoir une intention bienveillante en vous adressant à quelqu’un et de constater\nun décalage entre votre intention et la réaction ? \nSouhaiteriez-vous avoir de la clarté sur ce qui se joue dans ce type de situation ?\nSeriez-vous intéressé par des pistes d’action pour mettre davantage en cohérence\nvotre intention et votre communication en famille ?  \nL’Apel vous invite à venir écouter Nathalie Tirard qui nous parlera\ndes habitudes de langage qui nous éloignent de nos intentions bienveillantes\,\net nous donnera des pistes alternatives basées sur la Communication NonViolente (CNV) à partir d’exemples concrets vécus par elle et/ou par vous. \nNous serons ravis ensuite d’échanger en toute convivialité autour d’un verre de l’amitié.\nC’est une belle occasion de rencontrer d’autres parents d’élèves de Passy et d’échanger dans une ambiance chaleureuse. \n  \n \n\nDiplômée de l’ESCP et de l’institut de Coaching the Co-Active Training Institute\,\nNathalie Tirard est formatrice certifiée en CNV. \n\n\nElle a à coeur de contribuer à rendre les relations plus fructueuse\net de renforcer les liens de confiance entre les personnes pour l’épanouissement de tous.
URL:https://apelpassy.fr/event/conference-communication-non-violente/
LOCATION:Ciné-Club
CATEGORIES:Conférences et débats
ATTACH;FMTTYPE=image/jpeg:https://apelpassy.fr/wp-content/uploads/2023/01/Nathalie-Tirard.jpeg
ORGANIZER;CN="Apel%20Passy%20Buzenval":MAILTO:secretariat@apelpassy.fr
END:VEVENT
END:VCALENDAR