BEGIN:VCALENDAR
VERSION:2.0
PRODID:-//APEL PASSY BUZENVAL - ECPv5.16.1.1//NONSGML v1.0//EN
CALSCALE:GREGORIAN
METHOD:PUBLISH
X-WR-CALNAME:APEL PASSY BUZENVAL
X-ORIGINAL-URL:https://apelpassy.fr
X-WR-CALDESC:évènements pour APEL PASSY BUZENVAL
REFRESH-INTERVAL;VALUE=DURATION:PT1H
X-Robots-Tag:noindex
X-PUBLISHED-TTL:PT1H
BEGIN:VTIMEZONE
TZID:Europe/Paris
BEGIN:DAYLIGHT
TZOFFSETFROM:+0100
TZOFFSETTO:+0200
TZNAME:CEST
DTSTART:20230326T010000
END:DAYLIGHT
BEGIN:STANDARD
TZOFFSETFROM:+0200
TZOFFSETTO:+0100
TZNAME:CET
DTSTART:20231029T010000
END:STANDARD
END:VTIMEZONE
BEGIN:VEVENT
DTSTART;TZID=Europe/Paris:20230204T100000
DTEND;TZID=Europe/Paris:20230204T140000
DTSTAMP:20260422T202506
CREATED:20221212T160822Z
LAST-MODIFIED:20230123T154353Z
UID:16391-1675504800-1675519200@apelpassy.fr
SUMMARY:Salon virtuel de l'orientation par Parkours
DESCRIPTION:Parkours organise\, en partenariat avec les Apel Académiques de Paris et de Versailles\, son 1er forum virtuel de l’orientation via Teams le samedi 4 février. \nLe principe est simple : les formateurs de Parkours qui sont de jeunes étudiants présenteront leur formation aux élèves. Les jeunes parlent aux jeunes ! \nLes élèves peuvent s’inscrire aux créneaux qu’ils souhaitent selon leurs centres d’intérêts et/ou leur projet via le QR code de la plaquette. \nCette invitation s’adresse aux élèves de la 4ème à la Terminale.
URL:https://apelpassy.fr/event/salon-virtuel-orientation-parkours/
LOCATION:En visioconférence
CATEGORIES:Orientation
END:VEVENT
BEGIN:VEVENT
DTSTART;VALUE=DATE:20230207
DTEND;VALUE=DATE:20230209
DTSTAMP:20260422T202506
CREATED:20210713T154508Z
LAST-MODIFIED:20221024T133140Z
UID:14846-1675728000-1675900799@apelpassy.fr
SUMMARY:Professions de Foi - Retraite
DESCRIPTION:
URL:https://apelpassy.fr/event/professions-de-foi-retraite/
LOCATION:Notre-Dame de l’Ouÿe\, Route de l'Ouye\, Les Granges-le-Roi\, 91410\, France
CATEGORIES:Célébrations et rendez-vous de la pastorale
END:VEVENT
BEGIN:VEVENT
DTSTART;VALUE=DATE:20230211
DTEND;VALUE=DATE:20230212
DTSTAMP:20260422T202506
CREATED:20210713T155437Z
LAST-MODIFIED:20221024T131728Z
UID:14854-1676073600-1676159999@apelpassy.fr
SUMMARY:Confirmations - Réunion d'information pour les parents
DESCRIPTION:
URL:https://apelpassy.fr/event/confirmations-reunion-parents/
LOCATION:Ciné-Club
CATEGORIES:Célébrations et rendez-vous de la pastorale
END:VEVENT
END:VCALENDAR