BEGIN:VCALENDAR
VERSION:2.0
PRODID:-//APEL PASSY BUZENVAL - ECPv5.16.1.1//NONSGML v1.0//EN
CALSCALE:GREGORIAN
METHOD:PUBLISH
X-WR-CALNAME:APEL PASSY BUZENVAL
X-ORIGINAL-URL:https://apelpassy.fr
X-WR-CALDESC:évènements pour APEL PASSY BUZENVAL
REFRESH-INTERVAL;VALUE=DURATION:PT1H
X-Robots-Tag:noindex
X-PUBLISHED-TTL:PT1H
BEGIN:VTIMEZONE
TZID:Europe/Paris
BEGIN:DAYLIGHT
TZOFFSETFROM:+0100
TZOFFSETTO:+0200
TZNAME:CEST
DTSTART:20230326T010000
END:DAYLIGHT
BEGIN:STANDARD
TZOFFSETFROM:+0200
TZOFFSETTO:+0100
TZNAME:CET
DTSTART:20231029T010000
END:STANDARD
END:VTIMEZONE
BEGIN:VEVENT
DTSTART;TZID=Europe/Paris:20231205T200000
DTEND;TZID=Europe/Paris:20231205T220000
DTSTAMP:20260420T071712
CREATED:20231122T113819Z
LAST-MODIFIED:20231122T113852Z
UID:16751-1701806400-1701813600@apelpassy.fr
SUMMARY:Conférence Passeport Orientation - Que faire quand je ne sait pas quoi faire ?
DESCRIPTION:  \nLes clés d’un projet d’orientation :\n– L’analyse de la scolarité de façon objective\n– L’analyse de la vie en dehors de l’école\n– La découverte des formations et des métiers\n– Les actions à mener pour que le projet d’orientation soit un succès. \n  \nChristine Sentagne est conseillère en orientation et membre du réseau tonavenir.net.\nElle accompagne au quotidien les jeunes et leurs parents afin que chaque jeune puisse découvrir sereinement sa personnalité\,\nses atouts et soit en mesure de construire son avenir. \n  \nS’inscrire\n \nVous recevrez le lien de connexion à la conférence par mail à partir du 30 novembre.
URL:https://apelpassy.fr/event/conference-passeport-orientation-que-faire/
LOCATION:En visioconférence
CATEGORIES:Conférences et débats
ATTACH;FMTTYPE=image/png:https://apelpassy.fr/wp-content/uploads/2021/11/SO-2021.png
ORGANIZER;CN="Apel%20Passy%20Buzenval":MAILTO:secretariat@apelpassy.fr
END:VEVENT
BEGIN:VEVENT
DTSTART;TZID=Europe/Paris:20231212T193000
DTEND;TZID=Europe/Paris:20231212T193000
DTSTAMP:20260420T071712
CREATED:20230330T172317Z
LAST-MODIFIED:20231124T114142Z
UID:16481-1702409400-1702409400@apelpassy.fr
SUMMARY:Conférence Apel - Harcèlement scolaire : comment faire face ? Comment donner confiance en eux à nos enfants ?
DESCRIPTION:L’Apel vous propose un éclairage pour comprendre les enjeux et les souffrances liés aux relations entre jeunes à l’école et en dehors.\nDécouvrez des stratégies pour renforcer la confiance de vos enfants en eux-mêmes et en l’avenir\, favorisant des relations respectueuses et constructives.\nUne opportunité pour les parents soucieux d’accompagner leurs enfants à grandir en confiance et à s’épanouir. \nCette conférence est exclusivement réservée aux parents et ne sera pas enregistrée.\nLes places sont limitées : Inscription obligatoire ICI \n  \nCette conférence sera animée par Emmanuelle Piquet\, thérapeute en thérapie brève stratégique et ex-directrice des ressources humaines.\nElle a développé une expertise en psychologie de l’École de Palo Alto. Fondatrices des centres « À 180 degrés – Chagrin scolaire »\,\nelle aide adultes\, couples et enfants dans diverses problématiques liées aux relations difficiles avec autrui ou soi-même.\nSa pratique thérapeutique a abouti à une approche durable pour apaiser les souffrances en milieu scolaire\, ce qui lui a valu d’être élevée\nau grade de Chevalier dans l’Ordre du Mérite par le ministre de l’Éducation Nationale en mars 2019 pour son engagement contre le harcèlement en milieu scolaire.
URL:https://apelpassy.fr/event/harcelement-scolaire/
LOCATION:Ciné-Club
CATEGORIES:Conférences et débats
ATTACH;FMTTYPE=image/png:https://apelpassy.fr/wp-content/uploads/2023/03/Capture-decran-2023-09-28-a-17.47.21.png
ORGANIZER;CN="Apel%20Passy%20Buzenval":MAILTO:secretariat@apelpassy.fr
END:VEVENT
END:VCALENDAR